{"text_format":"1","workbook":"xlsx","n_sheets":2,"sheets":["氏名報告","事務局使用"],"not_rendered":{"charts":0,"images":0,"macros":1,"external_links":0,"defined_names":2,"comments":0,"pivot_tables":0},"unopened":[],"bounds":{"document_bytes":16777216,"sheet_cells":100000,"rows_first":2000,"rows_last":500,"rows_between":2000,"halvings":0,"cell_chars":16384,"cell_head_chars":4096},"cells_cut":0,"cells_raw":0,"read":"whole","date_system":"1900"}

{"sheet":"氏名報告","index":0,"n_rows":31,"n_cols":43,"rows_kept":31,"cut":false,"hidden":false,"merged":[[5,15,6,15],[5,1,6,2],[7,1,12,2],[11,8,11,10],[11,12,11,14],[12,4,12,6],[12,8,12,10],[12,12,12,14],[7,4,7,6],[8,4,8,6],[7,8,7,10],[8,8,8,10],[6,4,6,6],[5,4,5,6],[5,8,5,10],[6,8,6,10],[9,4,9,6],[10,4,10,6],[9,8,9,10],[0,1,0,14],[1,1,1,14],[3,1,3,2],[3,9,3,10],[4,1,4,2],[3,3,3,4],[3,5,3,8],[3,11,3,14],[4,3,4,14],[5,12,5,14],[6,12,6,14],[9,12,9,14],[7,12,7,14],[8,12,8,14],[22,1,22,14],[26,2,26,13],[27,2,27,13],[10,8,10,10],[10,12,10,14],[18,1,18,14],[19,1,19,14],[20,1,21,14],[25,2,25,13],[13,1,13,14],[11,4,11,6],[14,1,14,14],[15,1,15,14],[16,1,16,3],[16,9,16,10],[16,11,16,14],[28,1,28,10],[28,11,28,12],[28,13,28,14],[23,2,23,13],[24,2,24,13]]}
[null,"科学経験発表会　発表者氏名報告書",null,null,null,null,null,null,null,null,null,null,null,null,null,null,null,null,null,null,null,null,null,null,null,null,null,null,null,null,null,null,null,null,null,null,null,null,null,null,"○","郡市・高校",1]
[null,"※記入いただいた内容で目録を作成しますので、要項と同じ題目・氏名等をお書きください。",null,null,null,null,null,null,null,null,null,null,null,null,null,null,null,null,null,"入力して下さい",null,null,null,null,null,null,null,null,null,null,null,null,null,null,null,null,null,null,null,null,"×","徳島・名東",2]
[null,null,null,null,null,null,null,null,null,null,null,null,null,null,null,null,null,null,null,null,null,null,null,null,null,null,null,null,null,null,null,null,null,null,null,null,null,null,null,null,null,"鳴門",3]
[null,"郡市・学校名\n(※目録に掲載)",null,null,null,null,null,null,null,"学　　年　　　　（※目録に掲載）",null,null,null,null,null,null,null,null,null,"▼プルダウンから選択して下さい",null,null,null,null,null,null,null,null,null,null,null,null,null,null,null,null,null,null,null,null,null,"小松島",4]
[null,"研究題目\n(※目録に掲載)",null,null,null,null,null,null,null,null,null,null,null,null,null,null,null,null,null,null,null,null,null,null,null,null,null,null,null,null,null,null,null,null,null,null,null,null,null,null,null,"阿南",5]
[null,"発表者氏名",null,"ふりがな",null,null,null,"ふりがな",null,null,null,"ふりがな",null,null,null,"発表者",null,null,null,null,null,null,null,null,null,null,null,null,null,null,null,null,null,null,null,null,null,null,null,null,null,"勝浦",6]
[null,null,null,"氏名",null,null,null,"氏名",null,null,null,"氏名",null,null,null,null,null,null,null,null,null,null,null,null,null,null,null,null,null,null,null,null,null,null,null,null,null,null,null,null,null,"名西","1･2"]
[null,"補助者・\n共同研究者\n氏　　名\n\n(※目録に掲載)　",null,"ふりがな",null,null,null,"ふりがな",null,null,null,"ふりがな",null,null,null,null,null,null,null,null,null,null,null,null,null,null,null,null,null,null,null,null,null,null,null,null,null,null,null,null,null,"那賀","1･3"]
[null,null,null,"氏名",null,null,null,"氏名",null,null,null,"氏名",null,null,null,null,null,null,null,null,null,null,null,null,null,null,null,null,null,null,null,null,null,null,null,null,null,null,null,null,null,"海部","2･3"]
[null,null,null,"ふりがな",null,null,null,"ふりがな",null,null,null,"ふりがな",null,null,null,null,null,null,null,null,null,null,null,null,null,null,null,null,null,null,null,null,null,null,null,null,null,null,null,null,null,"板野","3･4"]
[null,null,null,"氏名",null,null,null,"氏名",null,null,null,"氏名",null,null,null,null,null,null,null,null,null,null,null,null,null,null,null,null,null,null,null,null,null,null,null,null,null,null,null,null,null,"阿波","4･5"]
[null,null,null,"ふりがな",null,null,null,"ふりがな",null,null,null,"ふりがな",null,null,null,null,null,null,null,null,null,null,null,null,null,null,null,null,null,null,null,null,null,null,null,null,null,null,null,null,null,"吉野川","5･6"]
[null,null,null,"氏名",null,null,null,"氏名",null,null,null,"氏名",null,null,null,null,null,null,null,null,null,null,null,null,null,null,null,null,null,null,null,null,null,null,null,null,null,null,null,null,null,"美馬"]
[null,"〈 記入上の注意 〉",null,null,null,null,null,null,null,null,null,null,null,null,null,null,null,null,null,null,null,null,null,null,null,null,null,null,null,null,null,null,null,null,null,null,null,null,null,null,null,"三好"]
[null,"※発表者は３名以内ですが、目録に掲載を希望する補助者・共同研究者の名前も記入してください。"]
[null,"※発表者氏名には必ず，ふりがなを記入してください。"]
[null,"担当教諭氏名　　　",null,null,null,null,null,null,null,"プロジェクタ　使用の有無",null,"有",null,null,null,null,null,null,null,null,null,null,null,null,null,null,null,null,null,null,null,null,null,null,null,null,null,null,null,null,null,"高等学校"]
[null,null,null,null,null,null,null,null,null,null,null,null,null,null,null,null,null,null,null,null,null,null,null,null,null,null,null,null,null,null,null,null,null,null,null,null,null,null,null,null,null,"特別支援"]
[]
[null,"持　ち　込　み　機　器　記　入　欄"]
[]
[]
[null,"注　意　事　項"]
[null,null,"※小学校・中学校は，会館のプロジェクタ（接続：HDMI）を使用できます。"]
[null,null,"タブレット等の端末やHDMI変換コネクタを使用する場合は，会館のプロジェクタが反応しない場合がありますので，予備のプロジェクタを持参してください。"]
[null,null,"※高等学校は，プロジェクタを持参してください。"]
[null,null,"※貸出用パソコンはありませんので，持参してください。"]
[null,null,"※スクリーン・延長コードは会場に準備しております。"]
[null,"※ 学校行事等の順延で，発表会当日の参加できない可能性がある。　",null,null,null,null,null,null,null,null,null,"記入(○or×)",null,"×"]
[]
[null,"・提出締切日：１０月４日（金）　（メール添付でお願いします。）"]

{"sheet":"事務局使用","index":1,"n_rows":16,"n_cols":28,"rows_kept":16,"cut":false,"hidden":true,"merged":[[12,20,15,20],[12,21,15,21],[12,23,15,23],[12,24,15,24],[12,28,15,28],[12,22,15,22],[8,20,10,20],[8,21,10,21],[8,23,10,23],[8,24,10,24],[8,28,10,28],[8,22,10,22],[2,26,3,26],[2,27,3,27],[2,28,3,28],[5,20,6,20],[5,21,6,21],[5,23,6,23],[5,24,6,24],[5,28,6,28],[2,22,3,22],[5,22,6,22],[2,20,3,20],[2,21,3,21],[2,23,3,23],[2,24,3,24],[2,25,3,25],[2,0,3,0],[2,1,3,1],[2,2,3,2],[2,3,3,3],[2,4,3,4],[5,13,6,13],[12,11,15,11],[8,11,10,11],[5,11,6,11],[8,8,10,8],[5,8,6,8],[5,10,6,10],[12,10,15,10],[8,10,10,10],[2,11,3,11],[2,12,3,12],[2,13,3,13],[2,14,3,14],[2,18,3,18],[2,15,3,15],[2,16,3,16],[2,17,3,17],[2,8,3,8],[2,5,3,5],[2,6,3,6],[2,7,3,7],[2,10,3,10],[5,14,6,14],[5,18,6,18],[12,1,15,1],[12,2,15,2],[12,3,15,3],[12,4,15,4],[12,8,15,8],[12,12,15,12],[12,13,15,13],[12,14,15,14],[12,18,15,18],[8,12,10,12],[8,13,10,13],[8,14,10,14],[8,18,10,18],[5,12,6,12],[8,0,10,0],[8,1,10,1],[8,2,10,2],[8,3,10,3],[8,4,10,4],[5,0,6,0],[5,1,6,1],[5,2,6,2],[5,3,6,3],[5,4,6,4]]}
[]
[null,"氏名報告より",null,null,null,null,null,null,null,null,null,null,"値のみ貼付",null,null,"郡市なし",null,null,null,null,null,"郡市名入り","郡市"]
[null,{"$f":"IF(氏名報告!$D$5=0,\"\",氏名報告!$D$5)","v":""},{"$f":"IF(氏名報告!$D$4=0,\"\",氏名報告!$D$4)","v":""},{"$f":"IF(氏名報告!$F$4=0,\"\",氏名報告!$F$4)","v":""},{"$f":"IF(氏名報告!$L$4=0,\"\",氏名報告!$L$4)","v":""},{"$f":"IF(氏名報告!$E$7=0,\"\",氏名報告!$E$7)","v":""},{"$f":"IF(氏名報告!$I$7=0,\"\",氏名報告!$I$7)","v":""},{"$f":"IF(氏名報告!$M$7=0,\"\",氏名報告!$M$7)","v":""},null,null,"3人以内",null,"","","",111,"","",null,"基本","小学校","","","","",111,"",""]
[null,null,null,null,null,null,null,null,null,null,null,null,null,null,null,null,null,null,null,"１人～３人"]
[]
[null,{"$f":"IF(氏名報告!$D$5=0,\"\",氏名報告!$D$5)","v":""},{"$f":"IF(氏名報告!$D$4=0,\"\",氏名報告!$D$4)","v":""},{"$f":"IF(氏名報告!$F$4=0,\"\",氏名報告!$F$4)","v":""},{"$f":"IF(氏名報告!$L$4=0,\"\",氏名報告!$L$4)","v":""},{"$f":"IF(氏名報告!$E$7=0,\"\",氏名報告!$E$7)","v":""},{"$f":"IF(氏名報告!$I$7=0,\"\",氏名報告!$I$7)","v":""},{"$f":"IF(氏名報告!$M$7=0,\"\",氏名報告!$M$7)","v":""},null,null,"６人以内",null,"","","",111,"","",null,null,null,"","","","",111,"",""]
[null,null,null,null,null,{"$f":"IF(氏名報告!$E$9=0,\"\",氏名報告!$E$9)","v":""},{"$f":"IF(氏名報告!$I$9=0,\"\",氏名報告!$I$9)","v":""},{"$f":"IF(氏名報告!$M$9=0,\"\",氏名報告!$M$9)","v":""},null,null,null,null,null,null,null,111,"","",null,"６人",null,null,null,null,null,111,"",""]
[]
[null,{"$f":"IF(氏名報告!$D$5=0,\"\",氏名報告!$D$5)","v":""},{"$f":"IF(氏名報告!$D$4=0,\"\",氏名報告!$D$4)","v":""},{"$f":"IF(氏名報告!$F$4=0,\"\",氏名報告!$F$4)","v":""},{"$f":"IF(氏名報告!$L$4=0,\"\",氏名報告!$L$4)","v":""},{"$f":"IF(氏名報告!$E$7=0,\"\",氏名報告!$E$7)","v":""},{"$f":"IF(氏名報告!$I$7=0,\"\",氏名報告!$I$7)","v":""},{"$f":"IF(氏名報告!$M$7=0,\"\",氏名報告!$M$7)","v":""},null,null,"９人以内",null,"","","",111,"","",null,null,"中高校","","","","",111,"",""]
[null,null,null,null,null,{"$f":"IF(氏名報告!$E$9=0,\"\",氏名報告!$E$9)","v":""},{"$f":"IF(氏名報告!$I$9=0,\"\",氏名報告!$I$9)","v":""},{"$f":"IF(氏名報告!$M$9=0,\"\",氏名報告!$M$9)","v":""},null,null,null,null,null,null,null,111,"","",null,"基本",null,null,null,null,null,111,"",""]
[null,null,null,null,null,{"$f":"IF(氏名報告!$E$11=0,\"\",氏名報告!$E$11)","v":""},{"$f":"IF(氏名報告!$I$11=0,\"\",氏名報告!$I$11)","v":""},{"$f":"IF(氏名報告!$M$11=0,\"\",氏名報告!$M$11)","v":""},null,null,null,null,null,null,null,111,"","",null,"９人",null,null,null,null,null,111,"",""]
[]
[null,{"$f":"IF(氏名報告!$D$5=0,\"\",氏名報告!$D$5)","v":""},{"$f":"IF(氏名報告!$D$4=0,\"\",氏名報告!$D$4)","v":""},{"$f":"IF(氏名報告!$F$4=0,\"\",氏名報告!$F$4)","v":""},{"$f":"IF(氏名報告!$L$4=0,\"\",氏名報告!$L$4)","v":""},{"$f":"IF(氏名報告!$E$7=0,\"\",氏名報告!$E$7)","v":""},{"$f":"IF(氏名報告!$I$7=0,\"\",氏名報告!$I$7)","v":""},{"$f":"IF(氏名報告!$M$7=0,\"\",氏名報告!$M$7)","v":""},null,null,"12人以内",null,"","","",111,"","",null,null,null,"","","","",111,"",""]
[null,null,null,null,null,{"$f":"IF(氏名報告!$E$9=0,\"\",氏名報告!$E$9)","v":""},{"$f":"IF(氏名報告!$I$9=0,\"\",氏名報告!$I$9)","v":""},{"$f":"IF(氏名報告!$M$9=0,\"\",氏名報告!$M$9)","v":""},null,null,null,null,null,null,null,111,"","",null,null,null,null,null,null,null,111,"",""]
[null,null,null,null,null,{"$f":"IF(氏名報告!$E$11=0,\"\",氏名報告!$E$11)","v":""},{"$f":"IF(氏名報告!$I$11=0,\"\",氏名報告!$I$11)","v":""},{"$f":"IF(氏名報告!$M$11=0,\"\",氏名報告!$M$11)","v":""},null,null,null,null,null,null,null,111,"","",null,"１２人",null,null,null,null,null,111,"",""]
[null,null,null,null,null,{"$f":"IF(氏名報告!$E$13=0,\"\",氏名報告!$E$13)","v":""},{"$f":"IF(氏名報告!$I$13=0,\"\",氏名報告!$I$13)","v":""},{"$f":"IF(氏名報告!$M$13=0,\"\",氏名報告!$M$13)","v":""},null,null,null,null,null,null,null,111,"","",null,null,null,null,null,null,null,111,"",""]